BEGIN:VCALENDAR
VERSION:2.0
PRODID:-//Tampereen Hammaslääkäriseura - ECPv5.3.2.1//NONSGML v1.0//EN
CALSCALE:GREGORIAN
METHOD:PUBLISH
X-WR-CALNAME:Tampereen Hammaslääkäriseura
X-ORIGINAL-URL:https://www.tampereenhammaslaakariseura.fi
X-WR-CALDESC:Tapahtumat Tampereen Hammaslääkäriseura
BEGIN:VTIMEZONE
TZID:Europe/Helsinki
BEGIN:DAYLIGHT
TZOFFSETFROM:+0200
TZOFFSETTO:+0300
TZNAME:EEST
DTSTART:20240331T010000
END:DAYLIGHT
BEGIN:STANDARD
TZOFFSETFROM:+0300
TZOFFSETTO:+0200
TZNAME:EET
DTSTART:20241027T010000
END:STANDARD
END:VTIMEZONE
BEGIN:VEVENT
DTSTART;TZID=Europe/Helsinki:20241119T180000
DTEND;TZID=Europe/Helsinki:20241119T200000
DTSTAMP:20260422T130817
CREATED:20240108T140152Z
LAST-MODIFIED:20240327T074413Z
UID:2151-1732039200-1732046400@www.tampereenhammaslaakariseura.fi
SUMMARY:Vaalikokous ja luento etänä: Kielokallio oy pitää luennon hammaslääkäriyrittäjyydestä
DESCRIPTION:Vaalikokous ja luento etänä: osallistumislinkki lähetetään koko jäsenistölle sähköpostiin ennen kokousta\, joten tapahtumaan ei tarvitse erikseen ilmoittautua. Kokous alkaa klo 18\, jonka jälkeen päästämme luennoitsijan vauhtiin. \n  \nKielokallio Oy pitää luennon hammaslääkäriyrittäjyydestä: kattava tietopaketti kaikesta\, mitä olet halunnut tietää oman hammasalan yrityksen pyörittämisestä! Vastauksen saat mm. kysymyksiin: \n  \n-Miksi osakeyhtiö kannattaa? \n-Hammaslääkäriyrittäjän talousmatikka \n-Yrittäjyyden perusteita \n 
URL:https://www.tampereenhammaslaakariseura.fi/tapahtuma/vaalikokous-ja-luennoitsija/
END:VEVENT
END:VCALENDAR