BEGIN:VCALENDAR
VERSION:2.0
PRODID:-//Tampereen Hammaslääkäriseura - ECPv5.3.2.1//NONSGML v1.0//EN
CALSCALE:GREGORIAN
METHOD:PUBLISH
X-WR-CALNAME:Tampereen Hammaslääkäriseura
X-ORIGINAL-URL:https://www.tampereenhammaslaakariseura.fi
X-WR-CALDESC:Tapahtumat Tampereen Hammaslääkäriseura
BEGIN:VTIMEZONE
TZID:Europe/Helsinki
BEGIN:DAYLIGHT
TZOFFSETFROM:+0200
TZOFFSETTO:+0300
TZNAME:EEST
DTSTART:20240331T010000
END:DAYLIGHT
BEGIN:STANDARD
TZOFFSETFROM:+0300
TZOFFSETTO:+0200
TZNAME:EET
DTSTART:20241027T010000
END:STANDARD
END:VTIMEZONE
BEGIN:VEVENT
DTSTART;TZID=Europe/Helsinki:20240130T173000
DTEND;TZID=Europe/Helsinki:20240130T203000
DTSTAMP:20260423T045526
CREATED:20230226T160803Z
LAST-MODIFIED:20240122T142731Z
UID:1818-1706635800-1706646600@www.tampereenhammaslaakariseura.fi
SUMMARY:Radiologian EHL Marianne Rinneheimo pitää luennon kktt-kuvantamisesta ja kuukausikokous Tampereen kauppaseuran tiloissa
DESCRIPTION:Kuukausikous ja luennoitsijana radiologian EHL Marianne Rinneheimo pitää luennon kktt-kuvantamisesta. Sponsorina toimii Hammasväline. \n  \nTapahtuma on Tampereen Kauppaseura ry:n tiloissa (Aleksis Kiven katu 15\, 33200 Tampere\, 3. kerros. Alhaalla on ovisummeri\, jossa lukee JUHLATILA). Luento lähetetään myös etänä; linkki lähetetään koko jäsenistölle sähköpostiin ennen kokousta. Kokouksessa on kaikille ilmoittautuneille ilmainen ruoka tarjolla. Jos et ole muistanut ilmoittautua luennolle\, olet silti tervetullut kokoukseen (myös ruokailu onnistuu\, jos ja kun ruokaa riittää yli). Ruokailu alkaa klo 17:30 ja varsinainen ohjelma alkaa klo 18:00 ja tällöin aukaistaan Teams-yhteys. \nDeadline ilmoittautumiselle on ti 23.1.2024.
URL:https://www.tampereenhammaslaakariseura.fi/tapahtuma/tammikuun-luento-ja-kuukausikokous-tampereen-kauppaseuran-tiloissa/
END:VEVENT
END:VCALENDAR