BEGIN:VCALENDAR
VERSION:2.0
PRODID:-//Tampereen Hammaslääkäriseura - ECPv5.3.2.1//NONSGML v1.0//EN
CALSCALE:GREGORIAN
METHOD:PUBLISH
X-WR-CALNAME:Tampereen Hammaslääkäriseura
X-ORIGINAL-URL:https://www.tampereenhammaslaakariseura.fi
X-WR-CALDESC:Tapahtumat Tampereen Hammaslääkäriseura
BEGIN:VTIMEZONE
TZID:Europe/Helsinki
BEGIN:DAYLIGHT
TZOFFSETFROM:+0200
TZOFFSETTO:+0300
TZNAME:EEST
DTSTART:20230326T010000
END:DAYLIGHT
BEGIN:STANDARD
TZOFFSETFROM:+0300
TZOFFSETTO:+0200
TZNAME:EET
DTSTART:20231029T010000
END:STANDARD
END:VTIMEZONE
BEGIN:VEVENT
DTSTART;TZID=Europe/Helsinki:20231201T180000
DTEND;TZID=Europe/Helsinki:20231201T180000
DTSTAMP:20260423T063632
CREATED:20221031T160701Z
LAST-MODIFIED:20231027T102702Z
UID:1640-1701453600-1701453600@www.tampereenhammaslaakariseura.fi
SUMMARY:Pikkujoulut Tarua ja Taikaa -konsertissa! Myös avecit tervetulleita!
DESCRIPTION:Seuran pikkujoulut suuntautuvat tänä vuonna Tampere-taloon kuuntelemaan Tarua ja Taikaa -konsertissa! Myös seuralaisten avecit ovat erittäin tervetulleita tapahtumaan! \n  \nSeura tarjoaa liput jäsenille 10 eurolla. Aveceilta veloitetaan 27 euroa ja alle 17-vuotiailta aveceilta 10e. Seura tarjoaa väliajalla juomat jäsenille ja aveceille. Tapaaminen Tampere-talolla klo 18:30 (konsertti alkaa klo 19) \n  \nOsallistujamaksimi on 50 osallistujaa ja deadline ilmoittautumiselle on 31.10.23 klo 23:59. Lasku lähetetään myöhemmin jäsenille. \n  \n  \n\n\n”Tässä konsertissa voit kokea elokuva- ja orkesterimusiikin rakastetut suosikit yhdellä kertaa Tampere-talon Isossa salissa! \n\n\n\n\n\nTässä konsertissa voit kokea elokuva- ja orkesterimusiikin rakastetut suosikit yhdellä kertaa Tampere-talon Isossa salissa! Velhot ja haltiattaret hiipivät esiin\, kun Tampere Filharmonia tulkitsee mm. Williamsin musiikkia Harry Potter-elokuvista ja Shoren musiikkia Taru sormusten herrasta -elokuvista. Konsertissa eloon heräävät myös Disneyn Fantasia-elokuvistakin tutut Tšaikovskin Pähkinänsärkijä-baletin Makeishaltijatar\, Dukasin Noidan oppipoika ja Mussorgskin Yö autiolla vuorella. Tervetuloa taianomaiselle sävelseikkailulle!”
URL:https://www.tampereenhammaslaakariseura.fi/tapahtuma/pikkujoulut/
END:VEVENT
END:VCALENDAR