BEGIN:VCALENDAR
VERSION:2.0
PRODID:-//Tampereen Hammaslääkäriseura - ECPv5.3.2.1//NONSGML v1.0//EN
CALSCALE:GREGORIAN
METHOD:PUBLISH
X-WR-CALNAME:Tampereen Hammaslääkäriseura
X-ORIGINAL-URL:https://www.tampereenhammaslaakariseura.fi
X-WR-CALDESC:Tapahtumat Tampereen Hammaslääkäriseura
BEGIN:VTIMEZONE
TZID:Europe/Helsinki
BEGIN:DAYLIGHT
TZOFFSETFROM:+0200
TZOFFSETTO:+0300
TZNAME:EEST
DTSTART:20240331T010000
END:DAYLIGHT
BEGIN:STANDARD
TZOFFSETFROM:+0300
TZOFFSETTO:+0200
TZNAME:EET
DTSTART:20241027T010000
END:STANDARD
END:VTIMEZONE
BEGIN:VEVENT
DTSTART;TZID=Europe/Helsinki:20240921T130000
DTEND;TZID=Europe/Helsinki:20240921T170000
DTSTAMP:20260422T175942
CREATED:20240827T163158Z
LAST-MODIFIED:20240909T151829Z
UID:2336-1726923600-1726938000@www.tampereenhammaslaakariseura.fi
SUMMARY:Peruttu: Perinteinen Melakisa kyykkäturnauksen merkeissä
DESCRIPTION:Peruttu vähäisen osallistujamäärän takia: Perinteinen Melakisa Turun hammaslääkäriseuraa vastaan järjestetään tänä vuonna Tampereella kyykkäturnauksen ja yhteisruokailun merkeissä. Jo 30 vuotta Tampereen ja Turun hammaslääkäriseurat ovat ottaneet toisistaan mittaa yhteistyössä 3M:n kanssa. Ohjelma alkaa klo 13 ja päivä on perinteestä poiketen lauantaina. Tule auttamaan Tampere voittoon ja viettämään mukavaa aikaa uusien ja vanhojen kollegoiden kanssa! Yksityiskohdat tapahtumasta julkaistaan mahdollisimman pian nettisivuilla! \n  \nDeadline ilmoittautumiselle on viikkoa aikaisemmin 14.9.2024.
URL:https://www.tampereenhammaslaakariseura.fi/tapahtuma/perinteinen-melakisa-kyykkaturnauksen-merkeissa/
END:VEVENT
END:VCALENDAR