BEGIN:VCALENDAR
VERSION:2.0
PRODID:-//Tampereen Hammaslääkäriseura - ECPv5.3.2.1//NONSGML v1.0//EN
CALSCALE:GREGORIAN
METHOD:PUBLISH
X-WR-CALNAME:Tampereen Hammaslääkäriseura
X-ORIGINAL-URL:https://www.tampereenhammaslaakariseura.fi
X-WR-CALDESC:Tapahtumat Tampereen Hammaslääkäriseura
BEGIN:VTIMEZONE
TZID:Europe/Helsinki
BEGIN:DAYLIGHT
TZOFFSETFROM:+0200
TZOFFSETTO:+0300
TZNAME:EEST
DTSTART:20240331T010000
END:DAYLIGHT
BEGIN:STANDARD
TZOFFSETFROM:+0300
TZOFFSETTO:+0200
TZNAME:EET
DTSTART:20241027T010000
END:STANDARD
END:VTIMEZONE
BEGIN:VEVENT
DTSTART;TZID=Europe/Helsinki:20241022T173000
DTEND;TZID=Europe/Helsinki:20241022T200000
DTSTAMP:20260422T144124
CREATED:20231003T163251Z
LAST-MODIFIED:20240925T174626Z
UID:2050-1729618200-1729627200@www.tampereenhammaslaakariseura.fi
SUMMARY:Luentoilta: Ehl Hanna Vallioniemi luennoi esteettisestä hammashoidosta Tampereen Kauppaseura ry:n tiloissa
DESCRIPTION:Luentoilta: 2×45 minuutin luennot. Ehl Hanna Vallioniemi luennoi esteettisestä hammashoidosta. Tampereen Kauppaseura ry:n tiloissa (Aleksis Kiven katu 15\, 33200 Tampere\, 3. kerros. Alhaalla on ovisummeri\, jossa lukee JUHLATILA). Luento lähetetään myös etänä; linkki lähetetään koko jäsenistölle sähköpostiin ennen kokousta. Kokouksessa on kaikille ilmoittautuneille ilmainen ruoka tarjolla. Jos et ole muistanut ilmoittautua luennolle\, olet silti tervetullut kokoukseen (myös ruokailu onnistuu\, jos ja kun ruokaa riittää yli). Ruokailu alkaa klo 17:30 ja varsinainen ohjelma alkaa klo 18:00 ja tällöin aukaistaan Teams-yhteys. Viimeinen hetki ilmoittautua on 17.10.2025. \n\nHuom! Jos et pääse tapahtumaan\, ilmoitathan viikkoa ennen tapahtumaa poisjäännistä osoitteeseen ilmoittautumiset.tahls@gmail.com. Jos sairastut\, ilmoitathan siitä mahdollisimman pian osoitteeseen ilmoittautumiset.tahls@gmail.com tai jollekin hallituksemme jäsenelle. Peruuttamattomasta poisjäännistä joudumme valitettavasti laskuttamaan ruokailun hinnan 25 euroa. \n\n  \nDeadline ilmoittautumiselle on tiistaina viikkoa ennen tapahtumaa tiistaina.
URL:https://www.tampereenhammaslaakariseura.fi/tapahtuma/luentoilta-tampereen-kauppaseura-ryn-tiloissa/
END:VEVENT
END:VCALENDAR