BEGIN:VCALENDAR
VERSION:2.0
PRODID:-//Tampereen Hammaslääkäriseura - ECPv5.3.2.1//NONSGML v1.0//EN
CALSCALE:GREGORIAN
METHOD:PUBLISH
X-WR-CALNAME:Tampereen Hammaslääkäriseura
X-ORIGINAL-URL:https://www.tampereenhammaslaakariseura.fi
X-WR-CALDESC:Tapahtumat Tampereen Hammaslääkäriseura
BEGIN:VTIMEZONE
TZID:Europe/Helsinki
BEGIN:DAYLIGHT
TZOFFSETFROM:+0200
TZOFFSETTO:+0300
TZNAME:EEST
DTSTART:20230326T010000
END:DAYLIGHT
BEGIN:STANDARD
TZOFFSETFROM:+0300
TZOFFSETTO:+0200
TZNAME:EET
DTSTART:20231029T010000
END:STANDARD
END:VTIMEZONE
BEGIN:VEVENT
DTSTART;TZID=Europe/Helsinki:20230912T173000
DTEND;TZID=Europe/Helsinki:20230912T200000
DTSTAMP:20260425T133136
CREATED:20221031T160009Z
LAST-MODIFIED:20230824T144239Z
UID:1632-1694539800-1694548800@www.tampereenhammaslaakariseura.fi
SUMMARY:Kuukausikokous ja EHL HLT Eija Salmela luennoi karieksen hallinnasta\, tilaisuus Tampereen kauppaseuran tiloissa
DESCRIPTION:EHL HLT Eija Salmela saapuu luennoimaan Tampereelle karieksen hallinnasta. Sponsorina toimii Lumoral. \n  \nTapahtuma järjestetään Kauppaseura ry:n tiloissa (Aleksis Kiven katu 15\, 33200 Tampere\, 3. kerros. Alhaalla on ovisummeri\, jossa lukee JUHLATILA). \n  \nLuento lähetetään myös etänä; linkki lähetetään koko jäsenistölle sähköpostiin ennen kokousta. Kokouksessa on kaikille ilmoittautuneille ilmainen ruoka tarjolla. Jos et ole muistanut ilmoittautua luennolle\, olet silti tervetullut kokoukseen (myös ruokailu onnistuu viimeisten joukossa\, jos ja kun ruokaa riittää yli). Ruokailu alkaa klo 17:30 ja varsinainen ohjelma alkaa klo 18:00 ja tällöin aukaistaan Teams-yhteys. \n\nDeadline ilmoittautumiselle paikan päälle ma 4.9.2023.
URL:https://www.tampereenhammaslaakariseura.fi/tapahtuma/kuukausikokous-soutupaviljongilla-ja-luennoitsija-2/
END:VEVENT
END:VCALENDAR