BEGIN:VCALENDAR
VERSION:2.0
PRODID:-//Tampereen Hammaslääkäriseura - ECPv5.3.2.1//NONSGML v1.0//EN
CALSCALE:GREGORIAN
METHOD:PUBLISH
X-WR-CALNAME:Tampereen Hammaslääkäriseura
X-ORIGINAL-URL:https://www.tampereenhammaslaakariseura.fi
X-WR-CALDESC:Tapahtumat Tampereen Hammaslääkäriseura
BEGIN:VTIMEZONE
TZID:Europe/Helsinki
BEGIN:DAYLIGHT
TZOFFSETFROM:+0200
TZOFFSETTO:+0300
TZNAME:EEST
DTSTART:20230326T010000
END:DAYLIGHT
BEGIN:STANDARD
TZOFFSETFROM:+0300
TZOFFSETTO:+0200
TZNAME:EET
DTSTART:20231029T010000
END:STANDARD
END:VTIMEZONE
BEGIN:VEVENT
DTSTART;TZID=Europe/Helsinki:20230516T170000
DTEND;TZID=Europe/Helsinki:20230516T210000
DTSTAMP:20260425T162721
CREATED:20221031T154445Z
LAST-MODIFIED:20230510T172442Z
UID:1624-1684256400-1684270800@www.tampereenhammaslaakariseura.fi
SUMMARY:Kevätretki Visavuoreen Valkeakoskelle ja kuukausikokous
DESCRIPTION:Seuran perinteinen kevätretki suuntautuu tällä kertaa kuvanveistäjä Emil Wikströmin tilalle ja ateljeeseen. Emil Erik Wikström oli Suomen taiteen kultakauden merkittävimpiä kuvanveistäjiä. Wikström oli suomalaiskansallisen taiteen ja realismin kannattaja. Hänen tunnetuimpia töitään ovat muun muassa Lyhdynkantajat Helsingin rautatieasemalla. \nOpastus kiertää Visavuoren ateljeen ja asuinrakennuksen\, opas kertoo tarinoita Emil Wikströmistä ja hänen elämästään\, sekä Visavuoren rakennuksista. Opastuksen jälkeen tarjolla on ruoka. \nYhteinen bussikuljetus lähtee linja-autoasemalta klo 17. \nOsallistujamaksimi tapahtumassa on 30 henkeä. Ilmoittautuminen sulkeutuu viikkoa aikaisemmin. Osallistumismaksu on 15e.
URL:https://www.tampereenhammaslaakariseura.fi/tapahtuma/kevatretki-ja-kuukausikokous/
END:VEVENT
END:VCALENDAR