BEGIN:VCALENDAR
VERSION:2.0
PRODID:-//Tampereen Hammaslääkäriseura - ECPv5.3.2.1//NONSGML v1.0//EN
CALSCALE:GREGORIAN
METHOD:PUBLISH
X-WR-CALNAME:Tampereen Hammaslääkäriseura
X-ORIGINAL-URL:https://www.tampereenhammaslaakariseura.fi
X-WR-CALDESC:Tapahtumat Tampereen Hammaslääkäriseura
BEGIN:VTIMEZONE
TZID:Europe/Helsinki
BEGIN:DAYLIGHT
TZOFFSETFROM:+0200
TZOFFSETTO:+0300
TZNAME:EEST
DTSTART:20240331T010000
END:DAYLIGHT
BEGIN:STANDARD
TZOFFSETFROM:+0300
TZOFFSETTO:+0200
TZNAME:EET
DTSTART:20241027T010000
END:STANDARD
END:VTIMEZONE
BEGIN:VEVENT
DTSTART;TZID=Europe/Helsinki:20240514T163000
DTEND;TZID=Europe/Helsinki:20240514T190000
DTSTAMP:20260422T224227
CREATED:20230822T183015Z
LAST-MODIFIED:20240405T093146Z
UID:1979-1715704200-1715713200@www.tampereenhammaslaakariseura.fi
SUMMARY:Kevätretki 2024: kävelykierros Finlaysonilla ja ruokailu Plevnassa
DESCRIPTION:Seuran perinteinen kevätretki. Luvassa Finlaysonilla opastettu kävelykierros Pumpuliplikkain jäljillä ja tämän jälkeen ruokailu Plevnassa. Sponsorina tapahtumalle toimii 3M. \nTule mukaan tutustumaan uusiin kollegoihin ja viettämään rento ilta! \nIlmoittautuminen sulkeutuu viikkoa aikaisemmin. Osallistumismaksu on 15e. \nTapaaminen Työväenmuseo Werstaan aulasta klo 16:30. Deadline ilmoittautumiselle on jo 1.5.24. Maksimiosallistujamäärä on 30 ihmistä. \n  \nIlmoitathan ilmoittautumisen yhteydessä haluamasi ruoka-annoksen Plevnasta: \nPLEVNAN BURGER •8• L\, (G)\nBurgersämpylän välissä naudan täysjauhelihaburgerpihvi\, cheddaria\, ranchmajoneesia\, tomaattia\, suolakurkkua\, humaloitua punasipulia ja salaattia. Annos sisältää sweet chili- avokadomajoneesidipin ja maalaisranskalaiset. (Saatavana myös gluteenittomalla sämpylällä.) \nKANABURGER •11• L\, (G) Burgersämpylän välissä broilerin rintafile\, cheddaria\, ranchmajoneesia\, tomaattia\, suolakurkkua\, humaloitua punasipulia ja salaattia. Annos sisältää sweet chili- avokadomajoneesidipin ja maalaisranskalaiset. (Saatavana myös gluteenittomalla sämpylällä.) \nLIHAPULLAT KERMAKASTIKKEESSA •1• L\, G Reilu annos lihapullia kermakastikkeessa\, perunamuusia\, raastesalaattia\, punajuurta\, tomaattia ja suolakurkkua. \nPLEVNAN PYTTIPANNU •1• L ISO tai PIENI Talon mausteiseen kermasinappikastikkeeseen muhennettua pyttipannua\, raastesalaattia\, punajuurta\, tomaattia ja suolakurkkua. \nCURRYWURSTI •5• L\, M\, G ISO tai PIENI Tomaattisessa curry-viherpippurikastikkeessa kiehautettuja lihaisia nakinpalasia\, maalaislohkoperunoita\, raastesalaattia\, punajuurta\, tomaattia ja suolakurkkua. Tulista ja syntisen hyvää! \nTAMPERELAINEN Reilu annos Tapolan mustamakkaraa\, perunamuusia\, puolukkahilloa\, raastesalaattia\, punajuurta\, tomaattia ja suolakurkkua. \nPLEVNALAINEN •14• L\, (G) (Pariloitua thüringerwurstia\, bratwurstia\, James-savuolutmakkaraa\, hapankaalia ja perunasalaattia. (Saatavana myös gluteenittomana.) \nPLEVNAN MAKKARAPANNU •2• L\, (G) \nPariloitua thüringerwurstia\, bratwurstia\, James-savuolutmakkaraa\, aurajuustomakkaraa\, hapankaalia ja kermaperunaa. Sopii myös jaettavaksi kahdelle. (Saatavana myös gluteenittomana.) \n 
URL:https://www.tampereenhammaslaakariseura.fi/tapahtuma/kevatretki-2024/
END:VEVENT
END:VCALENDAR