BEGIN:VCALENDAR
VERSION:2.0
PRODID:-//Tampereen Hammaslääkäriseura - ECPv5.3.2.1//NONSGML v1.0//EN
CALSCALE:GREGORIAN
METHOD:PUBLISH
X-WR-CALNAME:Tampereen Hammaslääkäriseura
X-ORIGINAL-URL:https://www.tampereenhammaslaakariseura.fi
X-WR-CALDESC:Tapahtumat Tampereen Hammaslääkäriseura
BEGIN:VTIMEZONE
TZID:Europe/Helsinki
BEGIN:DAYLIGHT
TZOFFSETFROM:+0200
TZOFFSETTO:+0300
TZNAME:EEST
DTSTART:20230326T010000
END:DAYLIGHT
BEGIN:STANDARD
TZOFFSETFROM:+0300
TZOFFSETTO:+0200
TZNAME:EET
DTSTART:20231029T010000
END:STANDARD
END:VTIMEZONE
BEGIN:VEVENT
DTSTART;TZID=Europe/Helsinki:20230705T170000
DTEND;TZID=Europe/Helsinki:20230705T200000
DTSTAMP:20260425T144845
CREATED:20221031T154916Z
LAST-MODIFIED:20221031T155656Z
UID:1626-1688576400-1688587200@www.tampereenhammaslaakariseura.fi
SUMMARY:Kesäkandien ja syventävää käytännön harjoittelua suorittavien afterwork
DESCRIPTION:Tampereella kandikesää viettävien tai syventävää käytännön harjoittelua tekevien vuosittainen tapaaminen Pyynikin näkötornilla. Tule tapaamaan muita seudun uraansa aloittelevia hammaslääkäreitä. Luvassa rentoa hengailua\, munkkikahvittelua ja vertaistukea! Jos sää ei suosi ulkona oleskelua\, niin siirrymme muutaman korttelin päähän seuran toimistolle osoitteeseen Pirkankatu 11 a 2\, 33230 Tampere.
URL:https://www.tampereenhammaslaakariseura.fi/tapahtuma/kesakandien-ja-syventavaa-kaytannonharjoittelua-suorittavien-kesatapaaminen/
END:VEVENT
END:VCALENDAR